BEGIN:VCALENDAR
VERSION:2.0
PRODID:-//MAKU - ECPv6.15.20//NONSGML v1.0//EN
CALSCALE:GREGORIAN
METHOD:PUBLISH
X-ORIGINAL-URL:https://makuconcept.com
X-WR-CALDESC:Veranstaltungen für MAKU
REFRESH-INTERVAL;VALUE=DURATION:PT1H
X-Robots-Tag:noindex
X-PUBLISHED-TTL:PT1H
BEGIN:VTIMEZONE
TZID:UTC
BEGIN:STANDARD
TZOFFSETFROM:+0000
TZOFFSETTO:+0000
TZNAME:UTC
DTSTART:20220101T000000
END:STANDARD
END:VTIMEZONE
BEGIN:VEVENT
DTSTART;TZID=UTC:20230826T170000
DTEND;TZID=UTC:20230826T220000
DTSTAMP:20260419T174740
CREATED:20230710T173601Z
LAST-MODIFIED:20230927T055013Z
UID:2462-1693069200-1693087200@makuconcept.com
SUMMARY:MAKU Mucke mit Fil Alberga
DESCRIPTION:Am 26. August findet das nächste MAKU Mucke auf dem Ohligser Marktplatz statt. An diesem Abend sorgt Fil Alberga für die Beats. Bei uns findest du eine Auswahl an Weinen und Erfrischungsgetränken sowie ein Food Special. Also komm vorbei\, schnapp dir ein Glas Wein und genieß die gute Stimmung!
URL:https://makuconcept.com/event/maku-mucke-august-23/
LOCATION:MAKU Weinbar & Cafe Ohligs\, Ohligser Markt 1\, Solingen\, NRW\, 42697\, Deutschland
ATTACH;FMTTYPE=image/jpeg:https://makuconcept.com/wp-content/uploads/2023/07/MAKU-MUCKE-11-Instaposting.jpg
END:VEVENT
END:VCALENDAR