BEGIN:VCALENDAR
VERSION:2.0
PRODID:-//MAKU - ECPv6.15.20//NONSGML v1.0//EN
CALSCALE:GREGORIAN
METHOD:PUBLISH
X-WR-CALNAME:MAKU
X-ORIGINAL-URL:https://makuconcept.com
X-WR-CALDESC:Veranstaltungen für MAKU
REFRESH-INTERVAL;VALUE=DURATION:PT1H
X-Robots-Tag:noindex
X-PUBLISHED-TTL:PT1H
BEGIN:VTIMEZONE
TZID:UTC
BEGIN:STANDARD
TZOFFSETFROM:+0000
TZOFFSETTO:+0000
TZNAME:UTC
DTSTART:20220101T000000
END:STANDARD
END:VTIMEZONE
BEGIN:VEVENT
DTSTART;TZID=UTC:20230429T193000
DTEND;TZID=UTC:20230429T230000
DTSTAMP:20260421T062747
CREATED:20230405T133008Z
LAST-MODIFIED:20230405T133033Z
UID:1557-1682796600-1682809200@makuconcept.com
SUMMARY:MAKU MUCKE CLUBBING
DESCRIPTION:Test Text
URL:https://makuconcept.com/event/maku-mucke-clubbing/
LOCATION:Festhalle Ohligs\, Talstraße 16\, Solingen\, NRW\, 42697\, Deutschland
END:VEVENT
END:VCALENDAR